BEGIN:VCALENDAR
VERSION:2.0
PRODID:-//BuiCaSuS - ECPv5.9.1//NONSGML v1.0//EN
CALSCALE:GREGORIAN
METHOD:PUBLISH
X-WR-CALNAME:BuiCaSuS
X-ORIGINAL-URL:https://buicasus.eu
X-WR-CALDESC:Events for BuiCaSuS
BEGIN:VTIMEZONE
TZID:Europe/Helsinki
BEGIN:DAYLIGHT
TZOFFSETFROM:+0200
TZOFFSETTO:+0300
TZNAME:EEST
DTSTART:20220327T010000
END:DAYLIGHT
BEGIN:STANDARD
TZOFFSETFROM:+0300
TZOFFSETTO:+0200
TZNAME:EET
DTSTART:20221030T010000
END:STANDARD
END:VTIMEZONE
BEGIN:VEVENT
DTSTART;TZID=Europe/Helsinki:20220901T150000
DTEND;TZID=Europe/Helsinki:20220901T160000
DTSTAMP:20260417T214719
CREATED:20220826T101419Z
LAST-MODIFIED:20220826T101519Z
UID:3056-1662044400-1662048000@buicasus.eu
SUMMARY:Social Innovation Foresight on Reimagining democracy
DESCRIPTION:Date and time: 1 SEPTEMBER 15:00 – 16:00 CEST. Format: ONLINE\, broadcasted on Forum for Social Innovation Sweden’s webpage (register here). Type: Open access. \nSocial Innovation Foresight on Reimagining democracy\nAcross Europe we see divided nations and communities and how citizens feel left behind. Many experience that they have few opportunities to influence their own lives\, as well as opportunities to influence the development of society. Involving those concerned is a key component when designing sustainable solutions to the societal challenges of today. \n  \nLinked to the BuiCaSuS project\, Forum for Social Innovation Sweden are holding a Social Innovation Foresight on Reimagining democracy\, on 1 September\, at 3 to 4 PM\, CET\, where we reflect on and explore the problems of democracy and suggest different ways forward. \nThe foresight event is open to anyone with an interest in social innovation and the following issues: What are the main democracy issues? How can different actors and organisations empower citizens and assure that we give high quality access and voice to people in the margins\, to the excluded or forgotten? How can research and innovation help to address the current challenges for democracies? How important is community involvement and empowerment for social innovation and for democracy? What different innovative ideas\, alternatives and models are there? What can we achieve when involving a diversity of perspectives\, from all sectors and target groups in society\, in designing solutions for tomorrow? How can we reimagine democracy? \nThe panelists are: \n\nSwati Banerjee\, (PhD) Professor and Program Convenor at the School of Social Work\, Centre for Livelihoods and Social Innovation at Tata Institute of Social Sciences (TISS)\, Mumbai\nKatja Reppel\, Head of Unit Directorate-Generale Research and Innovation (RTD)\, European Commission and\,\nGorka Espiau Idoiaga (PhD) the Director at the “Agirre Lehendakaria Center for Social and Political Studies”.\n\nThe talk is moderated by Erin Cory\, Assistant professor and senior lecturer at Malmö University. \nPlace: The event is digital and will be broadcasted on Forum for Social Innovation Sweden’s webpage. A link will be sent to you upon registration. \nThose who are in Malmö are welcome to join us at Malmö University in Storm\, at Gäddan\, Citadellsvägen 7\, to watch the livestream of the talk together. We will serve “fika” from 2:45 PM. \n\nREGISTER HERE
URL:https://buicasus.eu/event/social-innovation-foresight-on-reimagining-democracy/
LOCATION:Online
ATTACH;FMTTYPE=image/jpeg:https://buicasus.eu/wp-content/uploads/2022/08/Reimagining-Democracy-Foresight4.jpg
END:VEVENT
END:VCALENDAR