BEGIN:VCALENDAR
VERSION:2.0
PRODID:-//BuiCaSuS - ECPv5.9.1//NONSGML v1.0//EN
CALSCALE:GREGORIAN
METHOD:PUBLISH
X-WR-CALNAME:BuiCaSuS
X-ORIGINAL-URL:https://buicasus.eu
X-WR-CALDESC:Events for BuiCaSuS
BEGIN:VTIMEZONE
TZID:Europe/Helsinki
BEGIN:DAYLIGHT
TZOFFSETFROM:+0200
TZOFFSETTO:+0300
TZNAME:EEST
DTSTART:20230326T010000
END:DAYLIGHT
BEGIN:STANDARD
TZOFFSETFROM:+0300
TZOFFSETTO:+0200
TZNAME:EET
DTSTART:20231029T010000
END:STANDARD
END:VTIMEZONE
BEGIN:VEVENT
DTSTART;VALUE=DATE:20230216
DTEND;VALUE=DATE:20230218
DTSTAMP:20260424T001629
CREATED:20211004T155242Z
LAST-MODIFIED:20230125T094810Z
UID:2335-1676505600-1676678399@buicasus.eu
SUMMARY:Final Conference
DESCRIPTION:Dates: 16/17-02-2023. Place: Riga\, Latvia. Venue: Pullman Rīga Old Town \nThis conference is a gathering point to reflect on the capacity building activities as well as to look beyond. A key topic on the agenda will be the reflection on the institutionalization of the CCSI Competence Centre for Social Innovation. \nAt that stage\, the four policy proposals will be available. We are looking forward to inquiring into how social innovation will be nurtured in each of the respective countries. \nWe trust that the cold shores of the Baltic Sea help us find a horizon! \n\n\n\n\n\n\n\n\nAttendees: \nSome 60 policymakers\, practitioners and scholars will meet. \nSpeakers: \n\nBuiCaSuS and other EC consortia: FUSE\, SEED\, PEnCIL\, ESIA and SI PLUS\, representatives\nAija Rūse\, Social anthropologist\, researcher and change agent\nAlda Sebre\, Head of the Social Cohesion Department at Society Integration Foundation\nGorka Espiau\, Agirre Centre\, Spain\nIngus Alliks\, State Secretary of the Ministry of Welfare of Latvia\nJohnny Karlsson\, Coordinator\, the Swedish ESF-council\nLaura Mangeng\, Policy Assistant\, DG Employment\, Social Affairs and Inclusion\nLiene Briede\, Board member at European Innovation Council\, Director at Science and Innovation department at Riga Technical university\nPatricia Bezurnatea\, Director General of Family Diversity and Social Services\, BuiCaSuS MGM\nProf. Ezio Manzini\, Design academic and researcher\, writer\, and educator\nSara Ulla\, Head of research Imserso\, Spanish Ministry of Social Rights and Agenda 2030\nVera Egreja Barracho\, Portugal Social Innovation Mission Unit\nZaiga Pūce\, Social Integration Foundation\, Director\nŽivilė Čimolauskaitė\, Coordinator of CoP on Social Innovation\n\nMore information: \nPlease contact your country partner for this event (Spain\, Latvia\, France or Sweden). \nDownload the draft programme here (321KB)
URL:https://buicasus.eu/event/final-conference/
LOCATION:Riga\, Latvia\, Riga\, Latvia
ATTACH;FMTTYPE=image/png:https://buicasus.eu/wp-content/uploads/2021/10/event-final-conference-buicasus.png
END:VEVENT
END:VCALENDAR